BEGIN:VCALENDAR
VERSION:2.0
PRODID:-//AFCS - Air Force Civilian Service - ECPv6.15.20//NONSGML v1.0//EN
CALSCALE:GREGORIAN
METHOD:PUBLISH
X-ORIGINAL-URL:https://afciviliancareers.com
X-WR-CALDESC:Events for AFCS - Air Force Civilian Service
REFRESH-INTERVAL;VALUE=DURATION:PT1H
X-Robots-Tag:noindex
X-PUBLISHED-TTL:PT1H
BEGIN:VTIMEZONE
TZID:America/New_York
BEGIN:DAYLIGHT
TZOFFSETFROM:-0500
TZOFFSETTO:-0400
TZNAME:EDT
DTSTART:20200308T070000
END:DAYLIGHT
BEGIN:STANDARD
TZOFFSETFROM:-0400
TZOFFSETTO:-0500
TZNAME:EST
DTSTART:20201101T060000
END:STANDARD
BEGIN:DAYLIGHT
TZOFFSETFROM:-0500
TZOFFSETTO:-0400
TZNAME:EDT
DTSTART:20210314T070000
END:DAYLIGHT
BEGIN:STANDARD
TZOFFSETFROM:-0400
TZOFFSETTO:-0500
TZNAME:EST
DTSTART:20211107T060000
END:STANDARD
BEGIN:DAYLIGHT
TZOFFSETFROM:-0500
TZOFFSETTO:-0400
TZNAME:EDT
DTSTART:20220313T070000
END:DAYLIGHT
BEGIN:STANDARD
TZOFFSETFROM:-0400
TZOFFSETTO:-0500
TZNAME:EST
DTSTART:20221106T060000
END:STANDARD
END:VTIMEZONE
BEGIN:VEVENT
DTSTART;TZID=America/New_York:20210923T140000
DTEND;TZID=America/New_York:20210923T170000
DTSTAMP:20260425T202127
CREATED:20210804T193404Z
LAST-MODIFIED:20210820T185202Z
UID:2139-1632405600-1632416400@afciviliancareers.com
SUMMARY:reStartEvents Nationwide Cleared Virtual Career Fair
DESCRIPTION:The Cleared Virtual Career Fair enables you to research companies\, view/apply for jobs\, chat with recruiters\, and build your network as you seek your next opportunity. No more applying for jobs and having no idea if your application is seen or what to expect next. Now you can chat with the recruiters who are actually responsible for the job you applied for. Register for a chance to find your next career opportunity.
URL:https://afciviliancareers.com/event/restartevents-nationwide-cleared-virtual-career-fair/
LOCATION:Virtual
CATEGORIES:AFCS
ATTACH;FMTTYPE=image/jpeg:https://afciviliancareers.com/wp-content/uploads/2021/08/AFCS-BY-0004-030-Q4-2021-Event-Calendar-Updates_reStartEvents-Nationwide.jpg
END:VEVENT
END:VCALENDAR