BEGIN:VCALENDAR
VERSION:2.0
PRODID:-//AFCS - Air Force Civilian Service - ECPv6.15.20//NONSGML v1.0//EN
CALSCALE:GREGORIAN
METHOD:PUBLISH
X-WR-CALNAME:AFCS - Air Force Civilian Service
X-ORIGINAL-URL:https://afciviliancareers.com
X-WR-CALDESC:Events for AFCS - Air Force Civilian Service
REFRESH-INTERVAL;VALUE=DURATION:PT1H
X-Robots-Tag:noindex
X-PUBLISHED-TTL:PT1H
BEGIN:VTIMEZONE
TZID:America/New_York
BEGIN:DAYLIGHT
TZOFFSETFROM:-0500
TZOFFSETTO:-0400
TZNAME:EDT
DTSTART:20230312T070000
END:DAYLIGHT
BEGIN:STANDARD
TZOFFSETFROM:-0400
TZOFFSETTO:-0500
TZNAME:EST
DTSTART:20231105T060000
END:STANDARD
BEGIN:DAYLIGHT
TZOFFSETFROM:-0500
TZOFFSETTO:-0400
TZNAME:EDT
DTSTART:20240310T070000
END:DAYLIGHT
BEGIN:STANDARD
TZOFFSETFROM:-0400
TZOFFSETTO:-0500
TZNAME:EST
DTSTART:20241103T060000
END:STANDARD
BEGIN:DAYLIGHT
TZOFFSETFROM:-0500
TZOFFSETTO:-0400
TZNAME:EDT
DTSTART:20250309T070000
END:DAYLIGHT
BEGIN:STANDARD
TZOFFSETFROM:-0400
TZOFFSETTO:-0500
TZNAME:EST
DTSTART:20251102T060000
END:STANDARD
END:VTIMEZONE
BEGIN:VEVENT
DTSTART;TZID=America/New_York:20240523T090000
DTEND;TZID=America/New_York:20240523T140000
DTSTAMP:20260420T172830
CREATED:20240417T155807Z
LAST-MODIFIED:20240417T155807Z
UID:3510-1716454800-1716472800@afciviliancareers.com
SUMMARY:Hanscom AFB In-person Hiring Event
DESCRIPTION:Air Force Civilian Service’s hiring event on Thursday\, May 23\, from 9 a.m. to 2 p.m. ET\, AFCS is interviewing hundreds of skilled civilian professionals like you for dozens of mission-critical openings across numerous career fields within the Air Force Life Cycle Management Center (AFLCMC)\, the Air Force Nuclear Weapons Center (AFNWC)\, and the 66th Air Base Group. \n\nRegister now at https://afciviliancareers.com/hanscomjobs/?utm_source=calendar&utm_medium=site&utm_campaign=HanscomJobs.
URL:https://afciviliancareers.com/event/hanscom-afb-in-person-hiring-event/
LOCATION:Sheraton Boston Needham Hotel\, 100 Cabot Street\, Needham\, MA\, 02494\, United States
CATEGORIES:AFCS
ATTACH;FMTTYPE=image/jpeg:https://afciviliancareers.com/wp-content/uploads/2024/04/cyc1_JM_Aptive-AFCS-OY3-3014-001-Hanscom-AFB-Hiring-Event-Event-Graphic.jpg
GEO:42.3032031;-71.2197667
X-APPLE-STRUCTURED-LOCATION;VALUE=URI;X-ADDRESS=Sheraton Boston Needham Hotel 100 Cabot Street Needham MA 02494 United States;X-APPLE-RADIUS=500;X-TITLE=100 Cabot Street:geo:-71.2197667,42.3032031
END:VEVENT
END:VCALENDAR